BEGIN:VCALENDAR
VERSION:2.0
PRODID:-//ChamberMaster//Event Calendar 2.0//EN
METHOD:PUBLISH
X-PUBLISHED-TTL:P1H
REFRESH-INTERVAL:P1H
CALSCALE:GREGORIAN
BEGIN:VTIMEZONE
TZID:America/New_York
BEGIN:DAYLIGHT
RRULE:FREQ=YEARLY;BYMONTH=3;BYDAY=2SU
DTSTART:20070101T000000
TZOFFSETFROM:-0500
TZOFFSETTO:-0400
TZNAME:Eastern Daylight Time
END:DAYLIGHT
BEGIN:STANDARD
RRULE:FREQ=YEARLY;BYMONTH=11;BYDAY=1SU
DTSTART:20070101T000000
TZOFFSETFROM:-0400
TZOFFSETTO:-0500
TZNAME:Eastern Standard Time
END:STANDARD
END:VTIMEZONE
BEGIN:VEVENT
DTSTART;TZID=America/New_York:20260520T103000
DTEND;TZID=America/New_York:20260520T120000
X-MICROSOFT-CDO-ALLDAYEVENT:FALSE
SUMMARY:General Membership Meeting
DESCRIPTION:General Membership Meeting for RMAAR members  BRUNCH AND MIMOSA'S  10:30 am\n\nLocation: Smith's Pavilion of Dortches\, 3713 N Halifax Rd. Rocky Mount NC 27804\n\n\nRegistration ends May 13th Register on time to secure your seat.
X-ALT-DESC;FMTTYPE=text/html:<!DOCTYPE html><html><head><title></title></head><body aria-disabled="false"><p>General Membership Meeting for RMAAR members&nbsp\; BRUNCH AND MIMOSA&#39\;S &nbsp\;</p><p>10:30 am</p><p><br></p><p><br></p><p>Location: Smith&#39\;s Pavilion of Dortches\, 3713 N Halifax Rd. Rocky Mount NC 27804</p><table fr-original-style="box-sizing: border-box\; border-collapse: collapse\; border-spacing: 0px\; background-color: rgb(255\, 255\, 255)\; width: 505.984px\; max-width: 100%\; margin-bottom: 0px\; color: rgb(118\, 118\, 118)\; font-family: Roboto\, sans-serif\; font-size: 12px\; font-style: normal\; font-variant-ligatures: normal\; font-variant-caps: normal\; font-weight: 400\; letter-spacing: 0.5px\; orphans: 2\; text-align: start\; text-transform: none\; widows: 2\; word-spacing: 0px\; -webkit-text-stroke-width: 0px\; white-space: normal\; text-decoration-thickness: initial\; text-decoration-style: initial\; text-decoration-color: initial\;" style="box-sizing: border-box\; border-collapse: collapse\; border-spacing: 0px\; background-color: rgb(255\, 255\, 255)\; width: 505.984px\; max-width: 100%\; margin-bottom: 0px\; color: rgb(118\, 118\, 118)\; font-family: Roboto\, sans-serif\; font-size: 12px\; font-style: normal\; font-variant-ligatures: normal\; font-variant-caps: normal\; font-weight: 400\; letter-spacing: 0.5px\; orphans: 2\; text-align: start\; text-transform: none\; widows: 2\; word-spacing: 0px\; -webkit-text-stroke-width: 0px\; white-space: normal\; text-decoration-thickness: initial\; text-decoration-style: initial\; text-decoration-color: initial\; border: 0px\; empty-cells: show\;"><tbody style="box-sizing: border-box\; background-color: white\;"><tr fr-original-style='box-sizing: border-box\; background-color: white\; box-shadow: none\; font-family: "Open Sans"\; font-size: 14px\; color: rgb(62\, 76\, 94)\; line-height: 21px\; font-weight: 400\; font-style: normal\;' style='box-sizing: border-box\; background-color: white\; box-shadow: none\; font-family: "Open Sans"\; font-size: 14px\; color: rgb(62\, 76\, 94)\; line-height: 21px\; font-weight: 400\; font-style: normal\; user-select: none\;'><td colspan="1" fr-original-style="box-sizing: border-box\; padding: 5px 5px 5px 0px\; text-align: right\; line-height: 1\; vertical-align: middle\; border: none\; background-color: unset\; min-height: 24px\; height: 40px\;" style="box-sizing: border-box\; padding: 5px 5px 5px 0px\; text-align: right\; line-height: 1\; vertical-align: middle\; border: none\; background-color: unset\; min-height: 24px\; height: 40px\; min-width: 5px\; user-select: text\;"><br></td></tr><tr fr-original-style='box-sizing: border-box\; background-color: white\; box-shadow: none\; font-family: "Open Sans"\; font-size: 14px\; color: rgb(62\, 76\, 94)\; line-height: 21px\; font-weight: 400\; font-style: normal\;' style='box-sizing: border-box\; background-color: white\; box-shadow: none\; font-family: "Open Sans"\; font-size: 14px\; color: rgb(62\, 76\, 94)\; line-height: 21px\; font-weight: 400\; font-style: normal\; user-select: none\;'><td colspan="1" fr-original-style="box-sizing: border-box\; padding: 5px 5px 5px 0px\; line-height: 1\; vertical-align: middle\; border: none\; height: 40px\;" style="box-sizing: border-box\; padding: 5px 5px 5px 0px\; line-height: 1\; vertical-align: middle\; border: none\; height: 40px\; min-width: 5px\; user-select: text\;"><br></td><td colspan="1" fr-original-style="box-sizing: border-box\; padding: 5px 5px 5px 0px\; text-align: right\; line-height: 1\; vertical-align: middle\; border: none\; height: 40px\;" style="box-sizing: border-box\; padding: 5px 5px 5px 0px\; text-align: right\; line-height: 1\; vertical-align: middle\; border: none\; height: 40px\; min-width: 5px\; user-select: text\;"><br></td></tr></tbody></table><p><strong fr-original-style="" style="font-weight: 700\;">Registration ends May 13th Register on time to secure your seat.</strong></p><p><br></p><p><br></p></body></html>
LOCATION:3713 North Halifax Road Rocky Mount NC 27804
UID:e.1349.1450009
SEQUENCE:3
DTSTAMP:20260424T051513Z
URL:https://members.rockymountnchomes.org/events/Details/general-membership-meeting-1717586?sourceTypeId=Hub
END:VEVENT
END:VCALENDAR
